BEGIN:VCALENDAR
VERSION:2.0
METHOD:PUBLISH
CALSCALE:GREGORIAN
BEGIN:VEVENT
UID:42a1ce28-df0e-4003-95b3-fa2cbe406e6e
SEQUENCE:0
CLASS:PUBLIC
PRIORITY:5
DTSTAMP:20260422T001902Z
CREATED:20260422T001902Z
DTSTART:20260420T143000Z
SUMMARY:Présentation en salon de Georges BLANC
LOCATION:CENTRE FUNERAIRE DE BEAULIEU 191 rue de Nice, 83100, TOULON, France
BEGIN:VALARM
TRIGGER:-PT30M
ACTION:DISPLAY
DESCRIPTION:Reminder
END:VALARM
END:VEVENT
END:VCALENDAR
