BEGIN:VCALENDAR
VERSION:2.0
METHOD:PUBLISH
CALSCALE:GREGORIAN
BEGIN:VEVENT
UID:60268168-897c-49ac-9c8e-09096b1afa53
SEQUENCE:0
CLASS:PUBLIC
PRIORITY:5
DTSTAMP:20260422T001901Z
CREATED:20260422T001901Z
DTSTART:20260423T100000Z
SUMMARY:Fermeture de cercueil  de Georges BLANC
LOCATION:191 rue de Nice, 83100, Toulon
BEGIN:VALARM
TRIGGER:-PT30M
ACTION:DISPLAY
DESCRIPTION:Reminder
END:VALARM
END:VEVENT
END:VCALENDAR
