BEGIN:VCALENDAR
VERSION:2.0
METHOD:PUBLISH
CALSCALE:GREGORIAN
BEGIN:VEVENT
UID:6dd5d3df-17ef-46e2-bca9-713fda08bd33
SEQUENCE:0
CLASS:PUBLIC
PRIORITY:5
DTSTAMP:20260422T001901Z
CREATED:20260422T001901Z
DTSTART:20260423T150000Z
SUMMARY:Inhumation  de Georges BLANC
LOCATION:2 Rond-point du Souvenir Francais, 34000, Montpellier
BEGIN:VALARM
TRIGGER:-PT30M
ACTION:DISPLAY
DESCRIPTION:Reminder
END:VALARM
END:VEVENT
END:VCALENDAR
