BEGIN:VCALENDAR
VERSION:2.0
METHOD:PUBLISH
CALSCALE:GREGORIAN
BEGIN:VEVENT
UID:536bb491-71cf-4a89-ac64-de02ce24cc9d
SEQUENCE:0
CLASS:PUBLIC
PRIORITY:5
DTSTAMP:20260425T132005Z
CREATED:20260425T132005Z
DTSTART:20260428T093000Z
SUMMARY:Présentation en salon de Henri FURNON
LOCATION:Maison funéraire d'Ollioules 142 le clos du haut, 83190, OLLIOULES
BEGIN:VALARM
TRIGGER:-PT30M
ACTION:DISPLAY
DESCRIPTION:Reminder
END:VALARM
END:VEVENT
END:VCALENDAR
