BEGIN:VCALENDAR
VERSION:2.0
METHOD:PUBLISH
CALSCALE:GREGORIAN
BEGIN:VEVENT
UID:f48eadc1-b471-4eba-ab35-4f8fee609b51
SEQUENCE:0
CLASS:PUBLIC
PRIORITY:5
DTSTAMP:20260425T132004Z
CREATED:20260425T132004Z
DTSTART:20260430T091500Z
SUMMARY:Fermeture du cercueil de Henri FURNON
LOCATION:Maison funéraire d'Ollioules 142 le clos du haut, 83190, OLLIOULES
BEGIN:VALARM
TRIGGER:-PT30M
ACTION:DISPLAY
DESCRIPTION:Reminder
END:VALARM
END:VEVENT
END:VCALENDAR
