BEGIN:VCALENDAR
VERSION:2.0
METHOD:PUBLISH
CALSCALE:GREGORIAN
BEGIN:VEVENT
UID:3b351fcd-f56c-4bda-bb20-58010767c337
SEQUENCE:0
CLASS:PUBLIC
PRIORITY:5
DTSTAMP:20260425T132006Z
CREATED:20260425T132006Z
DTSTART:20260430T100000Z
SUMMARY:Cérémonie Religieuse de Henri FURNON
LOCATION:Eglise Saint Nazaire Place Michel Pacha, 83110, SANARY-SUR-MER, France
BEGIN:VALARM
TRIGGER:-PT30M
ACTION:DISPLAY
DESCRIPTION:Reminder
END:VALARM
END:VEVENT
END:VCALENDAR
