BEGIN:VCALENDAR
VERSION:2.0
METHOD:PUBLISH
CALSCALE:GREGORIAN
BEGIN:VEVENT
UID:03bfc507-9e37-4847-8227-685bedd6710c
SEQUENCE:0
CLASS:PUBLIC
PRIORITY:5
DTSTAMP:20260425T132005Z
CREATED:20260425T132005Z
DTSTART:20260430T150000Z
SUMMARY:Crémation de Henri FURNON
LOCATION:Crématorium de LA SEYNE SUR MER 715, avenue Robert Brun, 83500, LA SEYNE-SUR-MER
BEGIN:VALARM
TRIGGER:-PT30M
ACTION:DISPLAY
DESCRIPTION:Reminder
END:VALARM
END:VEVENT
END:VCALENDAR
